Workbook

Sheet Summary
B9: Company Name | D9: Talen Energy Corp | F9: Valuation
B10: Ticker | D10: NASDAQ: TLN | F10: DCF PT | G10: =DCF!M26 -> 427.31472
B11: Stock Price | D11: $347.74 | F11: MoS, % | G11: =DCF!M28 -> 0.22883395
B12: Date | D12: 46136 | F12: 26 Multiples PT | G12: ='Public Comps'!D34 -> 413.62495
B13: Capitalization Table | F13: % IRR | G13: ='Public Comps'!D36 -> 0.1344922
B14: Market Cap | D14: =DCF!Q9 -> 16736.035 | F14: Blended PT | G14: =(G10+G12)/2 -> 420.46983
B15: (+) Net Debt | D15: =DCF!M22-DCF!M21 -> 2165.1478 | F15: MoS, % | G15: =G14/D11-1 -> 0.20915004
B16: Enterprise Value | D16: =SUM(D14:D15) -> 18901.182
B17: FDSO | D17: ='Public Comps'!C32 -> 48.184455

Sheet Revenue Build
B2: Talen Energy Corp. (TLN)
B3: Revenue Build ($mm unless noted otherwise) | C3: 45170 | D3: 45261 | E3: 45261 | F3: 45352 | G3: 45444 | H3: 45536 | I3: 45627 | J3: 45627 | K3: 45717 | L3: 45809 | M3: 45901 | N3: 45992 | O3: 45992 | P3: 46082 | Q3: 46174 | R3: 46266 | S3: 46357 | T3: 46357 | U3: 46447 | V3: 46539 | W3: 46631 | X3: 46722 | Y3: 46722
C4: Q3-2023 | D4: Q4-2023 | E4: FY2023A | F4: Q1-2024 | G4: Q2-2024 | H4: Q3-2024 | I4: Q4-2024 | J4: FY2024A | K4: Q1-2025 | L4: Q2-2025 | M4: Q3-2025 | N4: Q4-2025 | O4: FY2025A | P4: Q1-2026 | Q4: Q2-2026 | R4: Q3-2026 | S4: Q4-2026 | T4: FY2026A | U4: Q1-2027 | V4: Q2-2027 | W4: Q3-2027 | X4: Q4-2027 | Y4: FY2027A
B7: SCENARIO (toggle between Bull, Bear, Base) --> | C7: Base
B9: ENERGY AND OTHER REVENUE
B11: Total Energy and Other Revenues, mm | C11: 600 | D11: 368 | E11: 2198 | F11: 572 | G11: 367 | H11: 505 | I11: 437 | J11: 1881 | K11: 582 | L11: 366 | M11: 604 | N11: 589 | O11: 2141 | P11: =P15+P35 -> 701.52399 | Q11: =Q15+Q35 -> 439.44075 | R11: =R15+R35 -> 683.99333 | S11: =S15+S35 -> 658.48543 | T11: =SUM(P11:S11) -> 2483.4435 | U11: =U15+U35 -> 821.34818 | V11: =V15+V35 -> 500.96461 | W11: =W15+W35 -> 838.33107 | X11: =X15+X35 -> 822.06811 | Y11: =SUM(U11:X11) -> 2982.712
B12: Y/Y Growth, % | H12: =H11/C11-1 -> -0.15833333 | I12: =I11/D11-1 -> 0.1875 | J12: =J11/E11-1 -> -0.14422202 | K12: =K11/F11-1 -> 0.017482517 | L12: =L11/G11-1 -> -0.0027247956 | M12: =M11/H11-1 -> 0.1960396 | N12: =N11/I11-1 -> 0.34782609 | O12: =O11/J11-1 -> 0.13822435 | ... Y12: =Y11/T11-1 -> 0.20103878
B13: % of Total Revenue | C13: =C11/C47 -> 1.1627907 | D13: =D11/D47 -> 0.69829222 | E13: =E11/E47 -> 0.86061081 | F13: =F11/F47 -> 1.1237721 | G13: =G11/G47 -> 0.75051125 | H13: =H11/H47 -> 0.77692308 | I13: =I11/I47 -> 0.93576017 | J13: =J11/J47 -> 0.8893617 | ... Y13: =Y11/Y47 -> 0.75901542
B15: Nuclear Energy Revenue | C15: =C19+C25+C30 -> 228.528 | D15: =D19+D25+D30 -> 203.136 | E15: =E19+E25+E30 -> 431.664 | F15: =F19+F25+F30 -> 253.92 | G15: =G19+G25+G30 -> 177.744 | H15: =H19+H25+H30 -> 228.528 | I15: =I19+I25+I30 -> 203.136 | J15: =J19+J25+J30 -> 863.328 | ... Y15: =Y19+Y25+Y30 -> 1252.9287
B16: Y/Y Growth, % | H16: =H15/C15-1 -> 0 | I16: =I15/D15-1 -> 0 | J16: =J15/E15-1 -> 1 | K16: =K15/F15-1 -> -0.1 | L16: =L15/G15-1 -> 0.3526559 | M16: =M15/H15-1 -> 0.22464155 | N16: =N15/I15-1 -> 0.40852174 | O16: =O15/J15-1 -> 0.19878056 | ... Y16: =Y15/T15-1 -> 0.061691733
B17: % of Total Revenue | C17: =C15/C47 -> 0.44288372 | D17: =D15/D47 -> 0.38545731 | E17: =E15/E47 -> 0.16901488 | F17: =F15/F47 -> 0.49886051 | G17: =G15/G47 -> 0.36348466 | H17: =H15/H47 -> 0.35158154 | I17: =I15/I47 -> 0.43498073 | J17: =J15/J47 -> 0.40819291 | ... Y17: =Y15/Y47 -> 0.31883475
B19: AWS PPA Revenue | L19: =L22*L23 -> 41.150054 | M19: =M22*M23 -> 123.45016 | N19: =N22*N23 -> 123.45016 | O19: =SUM(L19:N19) -> 288.05038 | P19: =P22*P23 -> 244.32845 | Q19: =Q22*Q23 -> 244.32845 | R19: =R22*R23 -> 244.32845 | S19: =S22*S23 -> 244.32845 | T19: =SUM(P19:S19) -> 977.31379 | U19: =U22*U23 -> 244.32845 | V19: =V22*V23 -> 244.32845 | W19: =W22*W23 -> 244.32845 | X19: =X22*X23 -> 244.32845 | Y19: =SUM(U19:X19) -> 977.31379
B20: MW Contracted (capacity ramp schedule) | L20: 320 | M20: 960 | N20: 960 | O20: =AVERAGE(L20:N20) -> 746.66667 | P20: 1900 | Q20: 1900 | R20: 1900 | S20: 1900 | T20: =AVERAGE(P20:S20) -> 1900 | U20: 1900 | V20: 1900 | W20: 1900 | X20: 1900 | Y20: =AVERAGE(U20:X20) -> 1900 | AA20: AWS PPA went live in June 2025. Q2'25 = ~1 month (320 MW). Full 960 MW Q3'25. Ramp to 1,900 MW in 2026. Annual numbers = avg MW across quarters.
B21: Capacity Factor, % | L21: 0.92 | M21: 0.92 | N21: 0.92 | O21: =AVERAGE(K21:N21) -> 0.92 | P21: 0.92 | Q21: 0.92 | R21: 0.92 | S21: 0.92 | T21: =AVERAGE(P21:S21) -> 0.92 | U21: 0.92 | V21: 0.92 | W21: 0.92 | X21: 0.92 | Y21: =AVERAGE(U21:X21) -> 0.92 | AA21: Susquehanna historical CF = 92%, already accounts for outages on average across the whole year
B22: MWh Generated (TWh) | L22: =L21*L20*2184/1000000 -> 0.6429696 | M22: =M21*M20*2184/1000000 -> 1.9289088 | N22: =N21*N20*2184/1000000 -> 1.9289088 | O22: =SUM(L22:N22) -> 4.5007872 | P22: =P21*P20*2184/1000000 -> 3.817632 | Q22: =Q21*Q20*2184/1000000 -> 3.817632 | R22: =R21*R20*2184/1000000 -> 3.817632 | S22: =S21*S20*2184/1000000 -> 3.817632 | T22: =SUM(P22:S22) -> 15.270528 | U22: =U21*U20*2184/1000000 -> 3.817632 | V22: =V21*V20*2184/1000000 -> 3.817632 | W22: =W21*W20*2184/1000000 -> 3.817632 | X22: =X21*X20*2184/1000000 -> 3.817632 | Y22: =SUM(U22:X22) -> 15.270528 | AA22: Caluclation is done using the equation in the image at the bottom, but I just divided the hours by 4 because I split into quarterly
B23: Implied Revenue per MWh | L23: 64 | M23: 64 | N23: 64 | O23: =AVERAGE(K23:N23) -> 64 | P23: 64 | Q23: 64 | R23: 64 | S23: 64 | T23: =AVERAGE(P23:S23) -> 64 | U23: 64 | V23: 64 | W23: 64 | X23: 64 | Y23: =AVERAGE(U23:X23) -> 64 | AA23: Implied $64/MWh because the deal is worth $18B, then divide by 17yr conract and account of change in units
B25: Merchant Nuclear Revenue | C25: =C26*C27*2208/1000000*C28 -> 228.528 | D25: =D26*D27*2208/1000000*D28 -> 203.136 | E25: =SUM(C25:D25) -> 431.664 | F25: =F26*F27*2208/1000000*F28 -> 253.92 | G25: =G26*G27*2208/1000000*G28 -> 177.744 | H25: =H26*H27*2208/1000000*H28 -> 228.528 | I25: =I26*I27*2208/1000000*I28 -> 203.136 | J25: =SUM(F25:I25) -> 863.328 | K25: =K26*K27*2208/1000000*K28 -> 228.528 | L25: =L26*L27*2208/1000000*L28 -> 199.27642 | M25: =M26*M27*2208/1000000*M28 -> 156.41472 | N25: =N26*N27*2208/1000000*N28 -> 162.67131 | O25: =SUM(K25:N25) -> 746.89044 | P25: =P26*P27*2208/1000000*P28 -> 40.6272 | Q25: =Q26*Q27*2208/1000000*Q28 -> 40.6272 | R25: =R26*R27*2208/1000000*R28 -> 40.6272 | S25: =S26*S27*2208/1000000*S28 -> 40.6272 | T25: =SUM(P25:S25) -> 162.5088 | U25: =U26*U27*2208/1000000*U28 -> 48.75264 | V25: =V26*V27*2208/1000000*V28 -> 48.75264 | W25: =W26*W27*2208/1000000*W28 -> 48.75264 | X25: =X26*X27*2208/1000000*X28 -> 48.75264 | Y25: =SUM(U25:X25) -> 195.01056 | AA25: Same rationale for the calculation as seen in line 22 (but times the price to get revenue)
B26: MW Available (Susquehanna Total - AWS Contract) | C26: =2500-C20 -> 2500 | D26: =2500-D20 -> 2500 | F26: =2500-F20 -> 2500 | G26: =2500-G20 -> 2500 | H26: =2500-H20 -> 2500 | I26: =2500-I20 -> 2500 | K26: =2500-K20 -> 2500 | L26: =2500-L20 -> 2180 | M26: =2500-M20 -> 1540 | N26: =2500-N20 -> 1540 | P26: =2300-P20 -> 400 | Q26: =2300-Q20 -> 400 | R26: =2300-R20 -> 400 | S26: =2300-S20 -> 400 | T26: =AVERAGE(P26:S26) -> 400 | U26: =2300-U20 -> 400 | V26: =2300-V20 -> 400 | W26: =2300-W20 -> 400 | X26: =2300-X20 -> 400 | Y26: =AVERAGE(U26:X26) -> 400 | AA26: Merchant MW = (2,500 × 92% CF) − AWS contracted MW. ~400 MW available at full AWS ramp (vs 600 MW without CF adjustment).
B27: Capacity Factor, % | C27: 0.92 | D27: 0.92 | F27: 0.92 | G27: 0.92 | H27: 0.92 | I27: 0.92 | K27: 0.92 | L27: 0.92 | M27: 0.92 | N27: 0.92 | P27: 0.92 | Q27: 0.92 | R27: 0.92 | S27: 0.92 | T27: =AVERAGE(P27:S27) -> 0.92 | U27: 0.92 | V27: 0.92 | W27: 0.92 | X27: 0.92 | Y27: =AVERAGE(U27:X27) -> 0.92 | AA27: Same rationale for the CF as seen in line 21
B28: Spot Price Assumption (toggles with assumption) | C28: 45 | D28: 40 | E28: =AVERAGE(C28:D28) -> 42.5 | F28: 50 | G28: 35 | H28: 45 | I28: 40 | J28: =AVERAGE(F28:I28) -> 42.5 | K28: 45 | L28: 45 | M28: 50 | N28: 52 | O28: =AVERAGE(K28:N28) -> 48 | P28: =IF($C$7="Bull", 60, IF($C$7="Bear", 40, 50)) -> 50 | Q28: =IF($C$7="Bull", 60, IF($C$7="Bear", 40, 50)) -> 50 | R28: =IF($C$7="Bull", 60, IF($C$7="Bear", 40, 50)) -> 50 | S28: =IF($C$7="Bull", 60, IF($C$7="Bear", 40, 50)) -> 50 | T28: =AVERAGE(P28:S28) -> 50 | U28: =IF($C$7="Bull",80,IF($C$7="Bear",42,60)) -> 60 | V28: =IF($C$7="Bull",80,IF($C$7="Bear",42,60)) -> 60 | W28: =IF($C$7="Bull",80,IF($C$7="Bear",42,60)) -> 60 | X28: =IF($C$7="Bull",80,IF($C$7="Bear",42,60)) -> 60 | Y28: =AVERAGE(U28:X28) -> 60 | AA28: Toggled base on bear, base, bull case as seen in Revenue Build Toggles sheet
B30: Another Hyperscaler Revenue | P30: =P31*P32*0.92*2208/1000000*P33 -> 10.075546 | Q30: =Q31*Q32*0.92*2208/1000000*Q33 -> 10.075546 | R30: =R31*R32*0.92*2208/1000000*R33 -> 10.075546 | S30: =S31*S32*0.92*2208/1000000*S33 -> 10.075546 | T30: =SUM(P30:S30) -> 40.302182 | U30: =U31*U32*0.92*2208/1000000*U33 -> 20.151091 | V30: =V31*V32*0.92*2208/1000000*V33 -> 20.151091 | W30: =W31*W32*0.92*2208/1000000*W33 -> 20.151091 | X30: =X31*X32*0.92*2208/1000000*X33 -> 20.151091 | Y30: =SUM(U30:X30) -> 80.604365 | AA30: Same rationale for the calculation as seen in line 22 (but times the price to get revenue)
B31: Probability of Deal, % (toggles with assumption) | P31: =IF($C$7="Bull", 0.5, IF($C$7="Bear", 0, 0.2)) -> 0.2 | Q31: =IF($C$7="Bull", 0.5, IF($C$7="Bear", 0, 0.2)) -> 0.2 | R31: =IF($C$7="Bull", 0.5, IF($C$7="Bear", 0, 0.2)) -> 0.2 | S31: =IF($C$7="Bull", 0.5, IF($C$7="Bear", 0, 0.2)) -> 0.2 | T31: =AVERAGE(P31:S31) -> 0.2 | U31: =IF($C$7="Bull", 0.8, IF($C$7="Bear", 0.1, 0.4)) -> 0.4 | V31: =IF($C$7="Bull", 0.8, IF($C$7="Bear", 0.1, 0.4)) -> 0.4 | W31: =IF($C$7="Bull", 0.8, IF($C$7="Bear", 0.1, 0.4)) -> 0.4 | X31: =IF($C$7="Bull", 0.8, IF($C$7="Bear", 0.1, 0.4)) -> 0.4 | Y31: =AVERAGE(U31:X31) -> 0.4 | AA31: Toggled base on bear, base, bull case as seen in Revenue Build Toggles sheet
B32: MW if Signed | C32: 400 | D32: 400 | E32: =AVERAGE(C32:D32) -> 400 | F32: 400 | G32: 400 | H32: 400 | I32: 400 | J32: =AVERAGE(F32:I32) -> 400 | K32: 400 | L32: 400 | M32: 400 | N32: 400 | O32: =AVERAGE(K32:N32) -> 400 | P32: 400 | Q32: 400 | R32: 400 | S32: 400 | T32: =AVERAGE(P32:S32) -> 400 | U32: 400 | V32: 400 | W32: 400 | X32: 400 | Y32: =AVERAGE(U32:X32) -> 400 | AA32: Since there is only 400 MW left until fulfilling the CF, it can all theoretically be used if another deal was to get signed
B33: Revenue per MWh ($/MWh) | C33: 62 | D33: 62 | F33: 62 | G33: 62 | H33: 62 | I33: 62 | K33: 62 | L33: 62 | M33: 62 | N33: 62 | P33: 62 | Q33: 62 | R33: 62 | S33: 62 | T33: =AVERAGE(P33:S33) -> 62 | U33: 62 | V33: 62 | W33: 62 | X33: 62 | Y33: =AVERAGE(U33:X33) -> 62
B35: Natural Gas/Coal Energy Revenue | C35: =C11-C15 -> 371.472 | D35: =D11-D15 -> 164.864 | E35: =E11-E15 -> 1766.336 | F35: =F11-F15 -> 318.08 | G35: =G11-G15 -> 189.256 | H35: =H11-H15 -> 276.472 | I35: =I11-I15 -> 233.864 | J35: =J11-J15 -> 1017.672 | ... O35: =O11-O15 -> 1106.0592 | P35: =K35*(1+P36) -> 406.4928 | Q35: =L35*(1+Q36) -> 144.40956 | R35: =M35*(1+R36) -> 388.96214 | S35: =N35*(1+S36) -> 363.45423 | T35: =SUM(P35:S35) -> 1303.3187 | U35: =P35*(1+U36) -> 508.116 | V35: =Q35*(1+V36) -> 187.73243 | W35: =R35*(1+W36) -> 525.09889 | X35: =S35*(1+X36) -> 508.83593 | Y35: =SUM(U35:X35) -> 1729.7832
B36: Y/Y Growth, % | H36: =H35/C35-1 -> -0.25573933 | I36: =I35/D35-1 -> 0.41852679 | J36: =J35/E35-1 -> -0.42385141 | K36: =K35/F35-1 -> 0.11126761 | L36: =L35/G35-1 -> -0.33648852 | M36: =M35/H35-1 -> 0.17239763 | N36: =N35/I35-1 -> 0.29510539 | O36: =O35/J35-1 -> 0.08685232 | P36: 0.15 | Q36: 0.15 | R36: 0.2 | S36: 0.2 | T36: =AVERAGE(P36:S36) -> 0.175 | U36: 0.25 | V36: 0.3 | W36: 0.35 | X36: 0.4 | Y36: =AVERAGE(U36:X36) -> 0.325 | AA36: Cornerstone acqusition will be competed in the 3rd quarter of 2026, so revenue from these should increase. The 10% is striaght line as consensus
B37: % of Total Revenue | C37: =C35/C47 -> 0.71990698 | D37: =D35/D47 -> 0.31283491 | E37: =E35/E47 -> 0.69159593 | F37: =F35/F47 -> 0.62491159 | G37: =G35/G47 -> 0.38702658 | H37: =H35/H47 -> 0.42534154 | I37: =I35/I47 -> 0.50077944 | J37: =J35/J47 -> 0.48116879 | ... Y37: =Y35/Y47 -> 0.44018067
B39: CAPACITY REVENUE
B40: Capacity Revenues, mm | C40: 44 | D40: 63 | E40: 241 | F40: 45 | G40: 46 | H40: 50 | I40: 51 | J40: 192 | K40: 49 | L40: 88 | M40: 166 | N40: 182 | O40: 485 | P40: 170 | Q40: 185 | R40: 212 | S40: 212 | T40: =SUM(P40:S40) -> 779 | U40: 207 | V40: 210 | W40: 215 | X40: 215 | Y40: =SUM(U40:X40) -> 847 | AA40: Was orignially going to do capacity revenue growth rate consensus, but these prices have already been decided so I just backlogged into the actual revenue TLN should be getting each Q
B41: % of Total Revenue | C41: =C40/C47 -> 0.085271318 | D41: =D40/D47 -> 0.11954459 | E41: =E40/E47 -> 0.094361785 | F41: =F40/F47 -> 0.088408644 | G41: =G40/G47 -> 0.09406953 | H41: =H40/H47 -> 0.076923077 | I41: =I40/I47 -> 0.10920771 | J41: =J40/J47 -> 0.090780142 | ... Y41: =Y40/Y47 -> 0.21553743
B43: DERIVATIVE INSTRUMENTS
B44: Unrealized Gain (Loss) Income on Derivative Investments, mm | C44: -128 | D44: 96 | E44: 115 | F44: -108 | G44: 76 | H44: 95 | I44: -21 | J44: 42 | K44: -241 | L44: 176 | M44: 42 | N44: -22 | O44: -45 | P44: 25 | Q44: 25 | R44: 25 | S44: 25 | T44: =SUM(P44:S44) -> 100 | U44: 25 | V44: 25 | W44: 25 | X44: 25 | Y44: =SUM(U44:X44) -> 100 | AA44: Consensus hardcoded
B45: Y/Y Growth, % | H45: =H44/C44-1 -> -1.7421875 | I45: =I44/D44-1 -> -1.21875 | J45: =J44/E44-1 -> -0.63478261 | K45: =K44/F44-1 -> 1.2314815 | L45: =L44/G44-1 -> 1.3157895 | M45: =M44/H44-1 -> -0.55789474 | N45: =N44/I44-1 -> 0.047619048 | O45: =O44/J44-1 -> -2.0714286 | ... Y45: =Y44/T44-1 -> 0
B47: Total Revenue | C47: =C11+C40+C44 -> 516 | D47: =D11+D40+D44 -> 527 | E47: =E11+E40+E44 -> 2554 | F47: =F11+F40+F44 -> 509 | G47: =G11+G40+G44 -> 489 | H47: =H11+H40+H44 -> 650 | I47: =I11+I40+I44 -> 467 | J47: =J11+J40+J44 -> 2115 | ... S47: =S11+S40+S44 -> 895.48543 | T47: =SUM(P47:S47) -> 3362.4435 | U47: =U11+U40+U44 -> 1053.3482 | V47: =V11+V40+V44 -> 735.96461 | W47: =W11+W40+W44 -> 1078.3311 | X47: =X11+X40+X44 -> 1062.0681 | Y47: =SUM(U47:X47) -> 3929.712
B48: Y/Y Growth, % | H48: =H47/C47-1 -> 0.25968992 | I48: =I47/D47-1 -> -0.11385199 | J48: =J47/E47-1 -> -0.17188724 | K48: =K47/F47-1 -> -0.23379175 | L48: =L47/G47-1 -> 0.28834356 | M48: =M47/H47-1 -> 0.24923077 | N48: =N47/I47-1 -> 0.60385439 | O48: =O47/J47-1 -> 0.22033097 | ... Y48: =Y47/T47-1 -> 0.16870721

Sheet Revenue Build Toggles
B2: Talen Energy Corp. (TLN)
B3: Revenue Build Assumptions
B4: Assumption | C4: Scenario | D4: 2026E | E4: 2027E | F4: Rationale
B6: Merchant Nuclear Spot Price ($/MWh) | C6: Bear | D6: 40 | E6: 42 | F6: Bear: Mild weather + abundant gas supply keeps PJM energy prices suppressed; assuming there is also no material demand shock
B7: Merchant Nuclear Spot Price ($/MWh) | C7: Base | D7: 50 | E7: 60 | F7: Base: Historical PJM Western Hub averages; moderate AI data center load growth priced in (basically just following current trends)
B8: Merchant Nuclear Spot Price ($/MWh) | C8: Bull | D8: 60 | E8: 80 | F8: Bull: Assuming there is a hotter summer/colder winter + AI data center demand surges PJM supply by more; gas prices elevated
B10: Second Hyperscaler Probability | C10: Bear | D10: 0 | E10: 0.1 | F10: Bear: 2026E: No deal signed; market views AWS as one-off deal; regulatory timeline still uncertain. 2027E: Small probability one smaller deal closes after 2+ years of demonstrated AWS performance
B11: Second Hyperscaler Probability | C11: Base | D11: 0.2 | E11: 0.4 | F11: Base: 2026E: Active negotiation for a deal; NRC/FERC approval + Constellation fully committed nuclear capacity de-risks the pipeline. 2027E: A 2-year window gives adequate runway; hyperscaler urgency grows with AI capex expansion
B12: Second Hyperscaler Probability | C12: Bull | D12: 0.5 | E12: 0.8 | F12: Bull: 2026E: Hopefully a deal announced; hyperscalers will be competing for Talen's remaining ~400 MW merchant capacity. 2027E: Deal confirmed + second deal in pipeline; Talen template now standard industry practice

Sheet Income Statement
B2: Talen Energy Corp. (TLN)
B3: Income Statement ($mm unless noted otherwise) | C3: 45170 | D3: 45261 | E3: 45261 | F3: 45352 | G3: 45444 | H3: 45536 | I3: 45627 | J3: 45627 | K3: 45717 | L3: 45809 | M3: 45901 | N3: 45992 | O3: 45992 | P3: 46082 | Q3: 46174 | R3: 46266 | S3: 46357 | T3: 46357 | U3: 46447 | V3: 46539 | W3: 46631 | X3: 46722 | Y3: 46722
C4: Q3-2023 | D4: Q4-2023 | E4: FY2023A | F4: Q1-2024 | G4: Q2-2024 | H4: Q3-2024 | I4: Q4-2024 | J4: FY2024A | K4: Q1-2025 | L4: Q2-2025 | M4: Q3-2025 | N4: Q4-2025 | O4: FY2025A | P4: Q1-2026 | Q4: Q2-2026 | R4: Q3-2026 | S4: Q4-2026 | T4: FY2026A | U4: Q1-2027 | V4: Q2-2027 | W4: Q3-2027 | X4: Q4-2027 | Y4: FY2027A
B7: Total Revenue | C7: ='Revenue Build'!C47 -> 516 | D7: ='Revenue Build'!D47 -> 527 | E7: ='Revenue Build'!E47 -> 2554 | F7: ='Revenue Build'!F47 -> 509 | G7: ='Revenue Build'!G47 -> 489 | H7: ='Revenue Build'!H47 -> 650 | I7: ='Revenue Build'!I47 -> 467 | J7: ='Revenue Build'!J47 -> 2115 | ... Y7: ='Revenue Build'!Y47 -> 3929.712
B8: Y/Y Total Revenue growth, % | H8: =H7/C7-1 -> 0.25968992 | I8: =I7/D7-1 -> -0.11385199 | J8: =J7/E7-1 -> -0.17188724 | K8: =K7/F7-1 -> -0.23379175 | L8: =L7/G7-1 -> 0.28834356 | M8: =M7/H7-1 -> 0.24923077 | N8: =N7/I7-1 -> 0.60385439 | O8: =O7/J7-1 -> 0.22033097 | ... Y8: =Y7/T7-1 -> 0.16870721
B10: Cost of Goods Sold | C10: 256 | D10: 151 | E10: 867 | F10: 212 | G10: 176 | H10: 245 | I10: 164 | J10: 797 | K10: 235 | L10: 252 | M10: 292 | N10: 287 | O10: 1066 | P10: =P7-P11 -> 313.7834 | Q10: =Q7-Q11 -> 227.30426 | R10: =R7-R11 -> 322.34767 | S10: =S7-S11 -> 313.4199 | T10: =SUM(P10:S10) -> 1176.8552 | U10: =U7-U11 -> 347.6049 | V10: =V7-V11 -> 242.86832 | W10: =W7-W11 -> 355.84925 | X10: =X7-X11 -> 350.48248 | Y10: =SUM(U10:X10) -> 1296.8049
B11: Gross Profit | C11: =C7-C10 -> 260 | D11: =D7-D10 -> 376 | E11: =E7-E10 -> 1687 | F11: =F7-F10 -> 297 | G11: =G7-G10 -> 313 | H11: =H7-H10 -> 405 | I11: =I7-I10 -> 303 | J11: =J7-J10 -> 1318 | ... O11: =O7-O10 -> 1515 | P11: =P7*P12 -> 582.7406 | Q11: =Q7*Q12 -> 422.13649 | R11: =R7*R12 -> 598.64567 | S11: =S7*S12 -> 582.06553 | T11: =SUM(P11:S11) -> 2185.5883 | U11: =U7*U12 -> 705.74328 | V11: =V7*V12 -> 493.09629 | W11: =W7*W12 -> 722.48182 | X11: =X7*X12 -> 711.58563 | Y11: =SUM(U11:X11) -> 2632.907
B12: Gross Margin, % | C12: =C11/C7 -> 0.50387597 | D12: =D11/D7 -> 0.71347249 | E12: =E11/E7 -> 0.6605325 | F12: =F11/F7 -> 0.58349705 | G12: =G11/G7 -> 0.6400818 | H12: =H11/H7 -> 0.62307692 | I12: =I11/I7 -> 0.64882227 | J12: =J11/J7 -> 0.62316785 | ... O12: =O11/O7 -> 0.58698179 | P12: 0.65 | Q12: 0.65 | R12: 0.65 | S12: 0.65 | T12: =T11/T7 -> 0.65 | U12: 0.67 | V12: 0.67 | W12: 0.67 | X12: 0.67 | Y12: =Y11/Y7 -> 0.67 | AA12: AWS nuclear PPA scales at ~85% gross margin, so the overall gross margin should be higher than consenus as this contracted revenue dominates the mix
B14: Operational Expenses | C14: 140 | D14: 149 | E14: 643 | F14: 154 | G14: 164 | H14: 127 | I14: 147 | J14: 592 | K14: 146 | L14: 192 | M14: 131 | N14: 151 | O14: 620 | P14: =P7*P15 -> 179.3048 | Q14: =Q7*Q15 -> 129.88815 | R14: =R7*R15 -> 184.19867 | S14: =S7*S15 -> 179.09709 | T14: =SUM(P14:S14) -> 672.4887 | U14: =U7*U15 -> 158.00223 | V14: =V7*V15 -> 110.39469 | W14: =W7*W15 -> 161.74966 | X14: =X7*X15 -> 159.31022 | Y14: =SUM(U14:X14) -> 589.45679
B15: % of Total Revenue | C15: =C14/C$7 -> 0.27131783 | D15: =D14/D$7 -> 0.28273245 | E15: =E14/E$7 -> 0.25176194 | F15: =F14/F$7 -> 0.30255403 | G15: =G14/G$7 -> 0.33537832 | H15: =H14/H$7 -> 0.19538462 | I15: =I14/I$7 -> 0.31477516 | J15: =J14/J$7 -> 0.27990544 | ... O15: =O14/O$7 -> 0.24021697 | P15: 0.2 | Q15: 0.2 | R15: 0.2 | S15: 0.2 | T15: =T14/T7 -> 0.2 | U15: 0.15 | V15: 0.15 | W15: 0.15 | X15: 0.15 | Y15: =Y14/Y7 -> 0.15 | AA15: Contracted nuclear revenue can increase at near-zero marginal operating cost (there is fixed O&M) and if seen across a growing revenue, it would proportinally decrease OpEx
B17: General & Administrative | C17: 37 | D17: 38 | E17: 144 | F17: 43 | G17: 40 | H17: 38 | I17: 42 | J17: 163 | K17: 34 | L17: 41 | M17: 38 | N17: 511 | O17: 624 | P17: =P7*P18 -> 42.297542 | Q17: =Q7*Q18 -> 42.265192 | R17: =R7*R18 -> 43.100673 | S17: =S7*S18 -> 55.737691 | T17: =SUM(P17:S17) -> 183.4011 | U17: =U7*U18 -> 28.629463 | V17: =V7*V18 -> 46.42418 | W17: =W7*W18 -> 48.307107 | X17: =X7*X18 -> 34.244252 | Y17: =SUM(U17:X17) -> 157.605
B18: % of Total Revenue | C18: =C17/C$7 -> 0.071705426 | D18: =D17/D$7 -> 0.072106262 | E18: =E17/E$7 -> 0.056382146 | F18: =F17/F$7 -> 0.084479371 | G18: =G17/G$7 -> 0.081799591 | H18: =H17/H$7 -> 0.058461538 | I18: =I17/I$7 -> 0.08993576 | J18: =J17/J$7 -> 0.077068558 | ... O18: =O17/O$7 -> 0.24176676 | P18: 0.047179487 | Q18: 0.065079365 | R18: 0.04679803 | S18: 0.062242991 | T18: =T17/T7 -> 0.054543994 | U18: 0.027179487 | V18: 0.063079365 | W18: 0.04479803 | X18: 0.032242991 | Y18: =Y17/Y7 -> 0.040105994 | AA18: consensus projections
B20: Depreciation & Amortization | C20: 66 | D20: 71 | E20: 365 | F20: 75 | G20: 75 | H20: 75 | I20: 73 | J20: 298 | K20: 74 | L20: 70 | M20: 61 | N20: 74 | O20: 279 | P20: =P7*P21 -> 91.909782 | Q20: =Q7*Q21 -> 81.717533 | R20: =R7*R21 -> 82.341051 | S20: =S7*S21 -> 93.334796 | T20: =SUM(P20:S20) -> 349.30316 | U20: =U7*U21 -> 107.98707 | V20: =V7*V21 -> 92.604616 | W20: =W7*W21 -> 96.40777 | X20: =X7*X21 -> 110.6974 | Y20: =SUM(U20:X20) -> 407.69686
B21: % of Total Revenue | C21: =C20/C$7 -> 0.12790698 | D21: =D20/D$7 -> 0.13472486 | E21: =E20/E$7 -> 0.14291308 | F21: =F20/F$7 -> 0.14734774 | G21: =G20/G$7 -> 0.15337423 | H21: =H20/H$7 -> 0.11538462 | I21: =I20/I$7 -> 0.15631692 | J21: =J20/J$7 -> 0.14089835 | ... O21: =O20/O$7 -> 0.10809764 | P21: 0.10251793 | Q21: 0.12582754 | R21: 0.089404611 | S21: 0.10422816 | T21: =T20/T7 -> 0.10388373 | U21: 0.10251793 | V21: 0.12582754 | W21: 0.089404611 | X21: 0.10422816 | Y21: =Y20/Y7 -> 0.10374726 | AA21: consensus projections
B23: Other Operating Income /(expense) | C23: 10 | D23: 20 | E23: 451 | F23: 0 | G23: 7 | H23: 7 | I23: 25 | J23: 39 | K23: 7 | L23: 9 | M23: 27 | N23: 39 | O23: 82 | P23: =P7*P24 -> 2.4324401 | Q23: =Q7*Q24 -> 2.1159888 | R23: =R7*R24 -> 2.0930853 | S23: =S7*S24 -> 2.3580847 | T23: =SUM(P23:S23) -> 8.9995988 | U23: =U7*U24 -> 6.2604973 | V23: =V7*V24 -> 4.9292251 | W23: =W7*W24 -> 5.2205211 | X23: =X7*X24 -> 5.9910238 | Y23: =SUM(U23:X23) -> 22.401267
B24: % of Total Revenue | C24: =C23/C$7 -> 0.019379845 | D24: =D23/D$7 -> 0.037950664 | E24: =E23/E$7 -> 0.17658575 | F24: =F23/F$7 -> 0 | G24: =G23/G$7 -> 0.014314928 | H24: =H23/H$7 -> 0.010769231 | I24: =I23/I$7 -> 0.053533191 | J24: =J23/J$7 -> 0.018439716 | ... O24: =O23/O$7 -> 0.031770632 | P24: 0.0027131902 | Q24: 0.0032581706 | R24: 0.0022726389 | S24: 0.0026333032 | T24: =T23/T7 -> 0.0026765056 | U24: 0.0059434264 | V24: 0.0066976388 | W24: 0.0048412971 | X24: 0.0056409036 | Y24: =Y23/Y7 -> 0.0057004858 | AA24: consensus projections
B26: Operating Income (EBIT) | C26: =C11-C14-C17-C20-C23 -> 7 | D26: =D11-D14-D17-D20-D23 -> 98 | E26: =E11-E14-E17-E20-E23 -> 84 | F26: =F11-F14-F17-F20-F23 -> 25 | G26: =G11-G14-G17-G20-G23 -> 27 | H26: =H11-H14-H17-H20-H23 -> 158 | I26: =I11-I14-I17-I20-I23 -> 16 | J26: =J11-J14-J17-J20-J23 -> 226 | ... Y26: =Y11-Y14-Y17-Y20-Y23 -> 1455.7471
B27: Operating Margin, % | C27: =C26/C7 -> 0.013565891 | D27: =D26/D7 -> 0.18595825 | E27: =E26/E7 -> 0.032889585 | F27: =F26/F7 -> 0.049115914 | G27: =G26/G7 -> 0.055214724 | H27: =H26/H7 -> 0.24307692 | I27: =I26/I7 -> 0.034261242 | J27: =J26/J7 -> 0.10685579 | ... Y27: =Y26/Y7 -> 0.37044626
B29: Net Interest Expense / (income) | C29: -68 | D29: -75 | E29: -339 | F29: -59 | G29: -62 | H29: -66 | I29: -51 | J29: -238 | K29: -74 | L29: -62 | M29: -67 | N29: -99 | O29: -302 | P29: =-('Balance Sheet'!P99 * 'Balance Sheet'!P108 / 4) -> -149.71429 | Q29: =-('Balance Sheet'!Q99 * 'Balance Sheet'!Q108 / 4) -> -148.71139 | R29: =-('Balance Sheet'!R99 * 'Balance Sheet'!R108 / 4) -> -147.70849 | S29: =-('Balance Sheet'!S99 * 'Balance Sheet'!S108 / 4) -> -146.70559 | T29: =SUM(P29:S29) -> -592.83976 | U29: =-('Balance Sheet'!U99 * 'Balance Sheet'!U108 / 4) -> -145.7027 | V29: =-('Balance Sheet'!V99 * 'Balance Sheet'!V108 / 4) -> -144.6998 | W29: =-('Balance Sheet'!W99 * 'Balance Sheet'!W108 / 4) -> -143.6969 | X29: =-('Balance Sheet'!X99 * 'Balance Sheet'!X108 / 4) -> -142.694 | Y29: =SUM(U29:X29) -> -576.7934 | AA29: flows through statements
B31: Other Income | C31: -31 | D31: 213 | E31: 1126 | F31: 422 | G31: 605 | H31: 87 | I31: 9 | J31: 1123 | K31: -7 | L31: 93 | M31: 108 | N31: 32 | O31: 226 | P31: 220 | Q31: 220 | R31: 220 | S31: 220 | T31: =SUM(P31:S31) -> 880 | U31: 220 | V31: 220 | W31: 220 | X31: 220 | Y31: =SUM(U31:X31) -> 880 | AA31: consensus hardcoded
B33: Pre-tax Income | C33: =C26+C29+C31 -> -92 | D33: =D26+D29+D31 -> 236 | E33: =E26+E29+E31 -> 871 | F33: =F26+F29+F31 -> 388 | G33: =G26+G29+G31 -> 570 | H33: =H26+H29+H31 -> 179 | I33: =I26+I29+I31 -> -26 | J33: =J26+J29+J31 -> 1111 | ... Y33: =Y26+Y29+Y31 -> 1758.9537
B35: Provision / (benefit) for Income Taxes | C35: -16 | D35: 48 | E35: 263 | F35: 69 | G35: 112 | H35: 11 | I35: -94 | J35: 98 | K35: -52 | L35: 25 | M35: 97 | N35: -17 | O35: 53 | P35: 5 | Q35: 5 | R35: 11 | S35: 9 | T35: =SUM(P35:S35) -> 30 | U35: 8 | V35: 4 | W35: 9 | X35: 9 | Y35: =SUM(U35:X35) -> 30 | AA35: consensus hardcoded
B36: Tax Rate, % | C36: =IFERROR(C35/C33,0) -> 0.17391304 | D36: =IFERROR(D35/D33,0) -> 0.20338983 | E36: =IFERROR(E35/E33,0) -> 0.30195178 | F36: =IFERROR(F35/F33,0) -> 0.17783505 | G36: =IFERROR(G35/G33,0) -> 0.19649123 | H36: =IFERROR(H35/H33,0) -> 0.061452514 | I36: =IFERROR(I35/I33,0) -> 3.6153846 | J36: =IFERROR(J35/J33,0) -> 0.088208821 | ... Y36: =IFERROR(Y35/Y33,0) -> 0.017055594
B38: Net Income (Loss) | C38: =C33-C35 -> -76 | D38: =D33-D35 -> 188 | E38: =E33-E35 -> 608 | F38: =F33-F35 -> 319 | G38: =G33-G35 -> 458 | H38: =H33-H35 -> 168 | I38: =I33-I35 -> 68 | J38: =J33-J35 -> 1013 | ... Y38: =Y33-Y35 -> 1728.9537
B39: Net Income to NCI | C39: 1 | D39: 6 | E39: -5 | F39: 25 | G39: 4 | H39: 0 | I39: -14 | J39: 15 | K39: 0 | L39: 0 | M39: 0 | N39: 0 | O39: 0 | P39: 3 | Q39: 3 | R39: 3 | S39: 3 | T39: =SUM(P39:S39) -> 12 | U39: 3 | V39: 3 | W39: 3 | X39: 3 | Y39: =SUM(U39:X39) -> 12 | AA39: consensus hardcoded
B41: Net Income (Loss) to Common Shareholders | C41: =C38-C39 -> -77 | D41: =D38-D39 -> 182 | E41: =E38-E39 -> 613 | F41: =F38-F39 -> 294 | G41: =G38-G39 -> 454 | H41: =H38-H39 -> 168 | I41: =I38-I39 -> 82 | J41: =J38-J39 -> 998 | ... Y41: =Y38-Y39 -> 1716.9537
B43: EPS (Basic), $ | C43: =C41/C46 -> -1.3044436 | D43: =D41/D46 -> 3.0847458 | E43: =E41/E46 -> 10.384726 | F43: =F41/F46 -> 4.9994048 | G43: =G41/G46 -> 7.9047254 | H43: =H41/H46 -> 3.2990339 | I43: =I41/I46 -> 1.6432866 | J43: =J41/J46 -> 18.394957 | ... Y43: =Y41/Y46 -> 37.580112
B44: EPS (Diluted), $ | C44: =C41/C49 -> -1.3044436 | D44: =D41/D49 -> 3.0082645 | E44: =E41/E49 -> 10.320039 | F44: =F41/F49 -> 4.8422162 | G44: =G41/G49 -> 7.5951485 | H44: =H41/H49 -> 3.1597359 | I44: =I41/I49 -> 1.5648855 | J44: =J41/J49 -> 17.668095 | ... Y44: =Y41/Y49 -> 35.674727
B46: Basic Weighted Average Shares | C46: 59.029 | D46: 59 | E46: 59.029 | F46: 58.807 | G46: 57.434 | H46: 50.924 | I46: 49.9 | J46: 54.254 | K46: 45.849 | L46: 45.554 | M46: 45.684 | N46: 40.5 | O46: 45.692 | P46: 45.687828 | Q46: 45.687828 | R46: 45.687828 | S46: 45.687828 | T46: 45.687828 | U46: 45.687828 | V46: 45.687828 | W46: 45.687828 | X46: 45.687828 | Y46: 45.687828 | AA46: consensus hardcoded
B47: Y/Y Growth, % | H47: =H46/C46-1 -> -0.13730539 | I47: =I46/D46-1 -> -0.15423729 | J47: =J46/E46-1 -> -0.080892443 | K47: =K46/F46-1 -> -0.22034792 | L47: =L46/G46-1 -> -0.20684612 | M47: =M46/H46-1 -> -0.10289844 | N47: =N46/I46-1 -> -0.18837675 | O47: =O46/J46-1 -> -0.15781325 | ... Y47: =Y46/T46-1 -> 0
B49: Diluted Weighted Average Shares | C49: 59.029 | D49: 60.5 | E49: 59.399 | F49: 60.716 | G49: 59.775 | H49: 53.169 | I49: 52.4 | J49: 56.486 | K49: 45.849 | L49: 47.905 | M49: 48.582 | N49: 40.5 | O49: 45.692 | P49: 48.35692 | Q49: 48.128011 | R49: 48.128011 | S49: 48.128011 | T49: 48.184455 | U49: 48.128011 | V49: 48.128011 | W49: 48.128011 | X49: 48.128011 | Y49: 48.128011 | AA49: consensus hardcoded
B50: Y/Y Growth, % | H50: =H49/C49-1 -> -0.099273239 | I50: =I49/D49-1 -> -0.1338843 | J50: =J49/E49-1 -> -0.04904123 | K50: =K49/F49-1 -> -0.24486132 | L50: =L49/G49-1 -> -0.198578 | M50: =M49/H49-1 -> -0.086272076 | N50: =N49/I49-1 -> -0.22709924 | O50: =O49/J49-1 -> -0.1910916 | ... Y50: =Y49/T49-1 -> -0.0011713972
B54: EBIT | C54: =C26 -> 7 | D54: =D26 -> 98 | E54: =E26 -> 84 | F54: =F26 -> 25 | G54: =G26 -> 27 | H54: =H26 -> 158 | I54: =I26 -> 16 | J54: =J26 -> 226 | ... Y54: =Y26 -> 1455.7471
B55: Add back: D&A | C55: =C20 -> 66 | D55: =D20 -> 71 | E55: =E20 -> 365 | F55: =F20 -> 75 | G55: =G20 -> 75 | H55: =H20 -> 75 | I55: =I20 -> 73 | J55: =J20 -> 298 | ... Y55: =Y20 -> 407.69686
B57: EBITDA | C57: =C54+C55 -> 73 | D57: =D54+D55 -> 169 | E57: =E54+E55 -> 449 | F57: =F54+F55 -> 100 | G57: =G54+G55 -> 102 | H57: =H54+H55 -> 233 | I57: =I54+I55 -> 89 | J57: =J54+J55 -> 524 | ... Y57: =Y54+Y55 -> 1863.4439
B58: % of Total Revenue | C58: =C57/C7 -> 0.14147287 | D58: =D57/D7 -> 0.32068311 | E58: =E57/E7 -> 0.17580266 | F58: =F57/F7 -> 0.19646365 | G58: =G57/G7 -> 0.20858896 | H58: =H57/H7 -> 0.35846154 | I58: =I57/I7 -> 0.19057816 | J58: =J57/J7 -> 0.24775414 | ... Y58: =Y57/Y7 -> 0.47419352

Sheet Balance Sheet
B2: Talen Energy Corp. (TLN)
B3: Balance Sheet ($mm unless noted otherwise) | C3: 45170 | D3: 45261 | E3: 45261 | F3: 45352 | G3: 45444 | H3: 45536 | I3: 45627 | J3: 45627 | K3: 45717 | L3: 45809 | M3: 45901 | N3: 45992 | O3: 45992 | P3: 46082 | Q3: 46174 | R3: 46266 | S3: 46357 | T3: 46357 | U3: 46447 | V3: 46539 | W3: 46631 | X3: 46722 | Y3: 46722
C4: Q3-2023 | D4: Q4-2023 | E4: FY2023A | F4: Q1-2024 | G4: Q2-2024 | H4: Q3-2024 | I4: Q4-2024 | J4: FY2024A | K4: Q1-2025 | L4: Q2-2025 | M4: Q3-2025 | N4: Q4-2025 | O4: FY2025A | P4: Q1-2026 | Q4: Q2-2026 | R4: Q3-2026 | S4: Q4-2026 | T4: FY2026A | U4: Q1-2027 | V4: Q2-2027 | W4: Q3-2027 | X4: Q4-2027 | Y4: FY2027A
B7: Current Assets
B8: Cash and Cash Equivalents | C8: 244 | D8: 400 | E8: 400 | F8: 597 | G8: 632 | H8: 648 | I8: 328 | J8: 328 | K8: 295 | L8: 122 | M8: 497 | N8: 689 | O8: 689 | P8: =O8+'Cash Flow Statement'!P77 -> 546.40301 | Q8: =P8+'Cash Flow Statement'!Q77 -> 1097.2257 | R8: =Q8+'Cash Flow Statement'!R77 -> 1354.3115 | S8: =R8+'Cash Flow Statement'!S77 -> 1817.6925 | T8: =S8 -> 1817.6925 | U8: =T8+'Cash Flow Statement'!U77 -> 2300.3572 | V8: =U8+'Cash Flow Statement'!V77 -> 2929.644 | W8: =V8+'Cash Flow Statement'!W77 -> 3574.0568 | X8: =W8+'Cash Flow Statement'!X77 -> 3983.8522 | Y8: =X8 -> 3983.8522
B9: Restricted Cash and Cash Equivalents | C9: 520 | D9: 501 | E9: 501 | F9: 483 | G9: 483 | H9: 484 | I9: 37 | J9: 37 | K9: 25 | L9: 13 | M9: 0 | N9: 63 | O9: 63 | P9: =O9 -> 63 | Q9: =P9 -> 63 | R9: =Q9 -> 63 | S9: =R9 -> 63 | T9: =S9 -> 63 | U9: =S9 -> 63 | V9: =U9 -> 63 | W9: =V9 -> 63 | X9: =W9 -> 63 | Y9: =X9 -> 63
B10: Accounts Receivable, Net | C10: 168 | D10: 137 | E10: 137 | F10: 126 | G10: 151 | H10: 97 | I10: 123 | J10: 123 | K10: 100 | L10: 226 | M10: 180 | N10: 196 | O10: 196 | P10: =P77 -> 246.20735 | Q10: =Q77 -> 178.35227 | R10: =R77 -> 252.92723 | S10: =S77 -> 245.92213 | T10: =S10 -> 245.92213 | U10: =U77 -> 289.27509 | V10: =V77 -> 202.11383 | W10: =W77 -> 296.13601 | X10: =X77 -> 291.6698 | Y10: =X10 -> 291.6698
B11: Inventory | C11: 298 | D11: 375 | E11: 375 | F11: 279 | G11: 280 | H11: 297 | I11: 302 | J11: 302 | K11: 219 | L11: 224 | M11: 263 | N11: 278 | O11: 278 | P11: =P78 -> 827.07248 | Q11: =Q78 -> 599.13017 | R11: =R78 -> 849.64624 | S11: =S78 -> 826.11437 | T11: =S11 -> 826.11437 | U11: =U78 -> 971.74788 | V11: =V78 -> 678.95124 | W11: =W78 -> 994.79541 | X11: =X78 -> 979.7923 | Y11: =X11 -> 979.7923
B12: Derivative Instruments | C12: 76 | D12: 89 | E12: 89 | F12: 14 | G12: 27 | H12: 50 | I12: 66 | J12: 66 | K12: 33 | L12: 80 | M12: 45 | N12: 56 | O12: 56 | P12: =O12 -> 56 | Q12: =P12 -> 56 | R12: =Q12 -> 56 | S12: =R12 -> 56 | T12: =S12 -> 56 | U12: =S12 -> 56 | V12: =U12 -> 56 | W12: =V12 -> 56 | X12: =W12 -> 56 | Y12: =X12 -> 56
B13: Other Current Assets | C13: 123 | D13: 52 | E13: 52 | F13: =383+215 -> 598 | G13: 380 | H13: 97 | I13: 184 | J13: 184 | K13: 174 | L13: 165 | M13: 63 | N13: 67 | O13: 67 | P13: =P80 -> 196.13646 | Q13: =Q80 -> 142.08098 | R13: =R80 -> 201.48972 | S13: =S80 -> 195.90925 | T13: =S13 -> 195.90925 | U13: =U80 -> 210.66964 | V13: =V80 -> 147.19292 | W13: =W80 -> 215.66621 | X13: =X80 -> 212.41362 | Y13: =X13 -> 212.41362
B14: Total Current Assets | C14: =SUM(C8:C13) -> 1429 | D14: =SUM(D8:D13) -> 1554 | E14: =SUM(E8:E13) -> 1554 | F14: =SUM(F8:F13) -> 2097 | G14: =SUM(G8:G13) -> 1953 | H14: =SUM(H8:H13) -> 1673 | I14: =SUM(I8:I13) -> 1040 | J14: =SUM(J8:J13) -> 1040 | ... Y14: =SUM(Y8:Y13) -> 5586.728
B16: Non-Current Assets
B17: Total Intangible assets | C17: 5 | D17: 6 | E17: 6 | F17: 59 | G17: 5 | H17: 6 | I17: 5 | J17: 5 | K17: 5 | L17: 4 | M17: 5 | N17: 5 | O17: 5 | P17: =O17 -> 5 | Q17: =P17 -> 5 | R17: =Q17 -> 5 | S17: =R17 -> 5 | T17: =S17 -> 5 | U17: =S17 -> 5 | V17: =U17 -> 5 | W17: =V17 -> 5 | X17: =W17 -> 5 | Y17: =X17 -> 5
B18: Property, plant and equipment exc. Intangibles, nuclear fuel and CWIP | C18: 3368 | D18: 3405 | E18: 3405 | F18: 2964 | G18: 2934 | H18: 2886 | I18: 2810 | J18: 2810 | K18: 2785 | L18: 2759 | M18: 2719 | N18: 7093 | O18: 7093 | P18: =P67 -> 7060.9527 | Q18: =Q67 -> 7037.7376 | R18: =R67 -> 7004.8156 | S18: =S67 -> 6972.8054 | T18: =S18 -> 6972.8054 | U18: =U67 -> 6935.1522 | V18: =V67 -> 6908.8443 | W18: =W67 -> 6870.298 | X18: =X67 -> 6832.3331 | Y18: =X18 -> 6832.3331
B19: Construction work in progress | C19: 279 | D19: 255 | E19: 255 | F19: 101 | G19: 96 | H19: 143 | I19: 169 | J19: 169 | K19: 96 | L19: 89 | M19: 138 | N19: 258 | O19: 258 | P19: =O19 -> 258 | Q19: =P19 -> 258 | R19: =Q19 -> 258 | S19: =R19 -> 258 | T19: =S19 -> 258 | U19: =S19 -> 258 | V19: =U19 -> 258 | W19: =V19 -> 258 | X19: =W19 -> 258 | Y19: =X19 -> 258
B20: Nuclear fuel | C20: 194 | D20: 173 | E20: 173 | F20: 235 | G20: 215 | H20: 193 | I20: 170 | J20: 170 | K20: 252 | L20: 237 | M20: 213 | N20: 190 | O20: 190 | P20: =O20 -> 190 | Q20: =P20 -> 190 | R20: =Q20 -> 190 | S20: =R20 -> 190 | T20: =S20 -> 190 | U20: =S20 -> 190 | V20: =U20 -> 190 | W20: =V20 -> 190 | X20: =W20 -> 190 | Y20: =X20 -> 190
B21: Property, Plant, and Equipment | C21: 3846 | D21: 3839 | E21: 3839 | F21: 3359 | G21: 3250 | H21: 3228 | I21: 3154 | J21: 3154 | K21: 3138 | L21: 3089 | M21: 3075 | N21: 7546 | O21: 7546 | P21: =P18+P19+P20 -> 7508.9527 | Q21: =Q18+Q19+Q20 -> 7485.7376 | R21: =R18+R19+R20 -> 7452.8156 | S21: =S18+S19+S20 -> 7420.8054 | T21: =T18+T19+T20 -> 7420.8054 | U21: =U18+U19+U20 -> 7383.1522 | V21: =V18+V19+V20 -> 7356.8443 | W21: =W18+W19+W20 -> 7318.298 | ... Y21: =Y18+Y19+Y20 -> 7280.3331
B22: Nuclear Decomissioning Trust Funds | C22: 1456 | D22: 1575 | E22: 1575 | F22: 1642 | G22: 1659 | H22: 1737 | I22: 1724 | J22: 1724 | K22: 1717 | L22: 1790 | M22: 1870 | N22: 1900 | O22: 1900 | P22: =O22 -> 1900 | Q22: =P22 -> 1900 | R22: =Q22 -> 1900 | S22: =R22 -> 1900 | T22: =S22 -> 1900 | U22: =S22 -> 1900 | V22: =U22 -> 1900 | W22: =V22 -> 1900 | X22: =W22 -> 1900 | Y22: =X22 -> 1900
B23: Derivative Instruments | C23: 1 | D23: 6 | E23: 6 | F23: 4 | G23: 13 | H23: 22 | I23: 5 | J23: 5 | K23: 5 | L23: 0 | M23: 1 | N23: 4 | O23: 4 | P23: =O23 -> 4 | Q23: =P23 -> 4 | R23: =Q23 -> 4 | S23: =R23 -> 4 | T23: =S23 -> 4 | U23: =S23 -> 4 | V23: =U23 -> 4 | W23: =V23 -> 4 | X23: =W23 -> 4 | Y23: =X23 -> 4
B24: Other Non-Current Assets | C24: 160 | D24: 147 | E24: 147 | F24: 163 | G24: 207 | H24: 188 | I24: 183 | J24: 183 | K24: 159 | L24: 118 | M24: 103 | N24: 106 | O24: 106 | P24: =O24 -> 106 | Q24: =P24 -> 106 | R24: =Q24 -> 106 | S24: =R24 -> 106 | T24: =S24 -> 106 | U24: =S24 -> 106 | V24: =U24 -> 106 | W24: =V24 -> 106 | X24: =W24 -> 106 | Y24: =X24 -> 106
B25: Total Non-Current Assets | C25: =SUM(C21:C24) -> 5463 | D25: =SUM(D21:D24) -> 5567 | E25: =SUM(E21:E24) -> 5567 | F25: =SUM(F21:F24) -> 5168 | G25: =SUM(G21:G24) -> 5129 | H25: =SUM(H21:H24) -> 5175 | I25: =SUM(I21:I24) -> 5066 | J25: =SUM(J21:J24) -> 5066 | ... Y25: =SUM(Y21:Y24) -> 9290.3331
B27: Total Assets | C27: =C14+C25 -> 6892 | D27: =D14+D25 -> 7121 | E27: =E14+E25 -> 7121 | F27: =F14+F25 -> 7265 | G27: =G14+G25 -> 7082 | H27: =H14+H25 -> 6848 | I27: =I14+I25 -> 6106 | J27: =J14+J25 -> 6106 | ... Y27: =Y14+Y25 -> 14877.061
B29: Current Liabilities
B30: Long Term Debt, due within a year | C30: 12 | D30: 9 | E30: 9 | F30: 9 | G30: 9 | H30: 9 | I30: 17 | J30: 17 | K30: 17 | L30: 17 | M30: 17 | N30: 29 | O30: 29 | P30: =O30 -> 29 | Q30: =P30 -> 29 | R30: =Q30 -> 29 | S30: =R30 -> 29 | T30: =S30 -> 29 | U30: =S30 -> 29 | V30: =U30 -> 29 | W30: =V30 -> 29 | X30: =W30 -> 29 | Y30: =X30 -> 29
B31: Accrued Interest | C31: 69 | D31: 32 | E31: 32 | F31: 61 | G31: 31 | H31: 54 | I31: 18 | J31: 18 | K31: 54 | L31: 30 | M31: 53 | N31: 60 | O31: 60 | P31: =ABS('Income Statement'!P29) -> 149.71429 | Q31: =ABS('Income Statement'!Q29) -> 148.71139 | R31: =ABS('Income Statement'!R29) -> 147.70849 | S31: =ABS('Income Statement'!S29) -> 146.70559 | T31: =S31 -> 146.70559 | U31: =ABS('Income Statement'!U29) -> 145.7027 | V31: =ABS('Income Statement'!V29) -> 144.6998 | W31: =ABS('Income Statement'!W29) -> 143.6969 | X31: =ABS('Income Statement'!X29) -> 142.694 | Y31: =X31 -> 142.694
B32: Account Payable and Other Accrued Liabilities | C32: 289 | D32: 344 | E32: 344 | F32: 177 | G32: 212 | H32: 210 | I32: 266 | J32: 266 | K32: 203 | L32: 226 | M32: 192 | N32: 281 | O32: 281 | P32: =P79 -> 334.14863 | Q32: =Q79 -> 242.05681 | R32: =R79 -> 343.26874 | S32: =S79 -> 333.76154 | T32: =S32 -> 333.76154 | U32: =U79 -> 392.59948 | V32: =V79 -> 274.30561 | W32: =W79 -> 401.91099 | X32: =X79 -> 395.84953 | Y32: =X32 -> 395.84953
B33: Derivative Instruments | C33: 69 | D33: 32 | E33: 32 | F33: 98 | G33: 63 | H33: 6 | I33: 0 | J33: 0 | K33: 92 | L33: 32 | M33: 44 | N33: 101 | O33: 101 | P33: =O33 -> 101 | Q33: =P33 -> 101 | R33: =Q33 -> 101 | S33: =R33 -> 101 | T33: =S33 -> 101 | U33: =S33 -> 101 | V33: =U33 -> 101 | W33: =V33 -> 101 | X33: =W33 -> 101 | Y33: =X33 -> 101
B34: Stock-Based Compensation Liabilities | N34: 501 | O34: 501 | P34: =O34 -> 501 | Q34: =P34 -> 501 | R34: =Q34 -> 501 | S34: =R34 -> 501 | T34: =S34 -> 501 | U34: =S34 -> 501 | V34: =U34 -> 501 | W34: =V34 -> 501 | X34: =W34 -> 501 | Y34: =X34 -> 501
B35: Other Current Liabilities | C35: 85 | D35: 69 | E35: 69 | F35: =98+17 -> 115 | G35: 118 | H35: 129 | I35: 154 | J35: 154 | K35: 156 | L35: =70+77 -> 147 | M35: 151 | N35: 78 | O35: 78 | P35: =P81 -> 206.96991 | Q35: =Q81 -> 149.92872 | R35: =R81 -> 212.61886 | S35: =S81 -> 206.73015 | T35: =S35 -> 206.73015 | U35: =U81 -> 243.17406 | V35: =V81 -> 169.90346 | W35: =W81 -> 248.94156 | X35: =X81 -> 245.18712 | Y35: =X35 -> 245.18712
B36: Total Current Liabilities | C36: =SUM(C30:C35) -> 524 | D36: =SUM(D30:D35) -> 486 | E36: =SUM(E30:E35) -> 486 | F36: =SUM(F30:F35) -> 460 | G36: =SUM(G30:G35) -> 433 | H36: =SUM(H30:H35) -> 408 | I36: =SUM(I30:I35) -> 455 | J36: =SUM(J30:J35) -> 455 | ... Y36: =SUM(Y30:Y35) -> 1414.7307
B38: Non-Current Liabilites
B39: Long Term Debt | C39: 2823 | D39: 2811 | E39: 2811 | F39: 2619 | G39: 2617 | H39: 2616 | I39: 2987 | J39: 2987 | K39: 2975 | L39: 2972 | M39: 2969 | N39: 6782 | O39: 6782 | P39: =P103 -> 6709.75 | Q39: =Q103 -> 6664.5 | R39: =R103 -> 6619.25 | S39: =S103 -> 6574 | T39: =T103 -> 6393 | U39: =U103 -> 6528.75 | V39: =V103 -> 6483.5 | W39: =W103 -> 6438.25 | ... Y39: =Y103 -> 6212
B40: Derivative Instruments | C40: 11 | D40: 11 | E40: 11 | F40: 4 | G40: 1 | H40: 4 | I40: 7 | J40: 7 | K40: 42 | L40: 62 | M40: 37 | N40: 67 | O40: 67 | P40: =O40 -> 67 | Q40: =P40 -> 67 | R40: =Q40 -> 67 | S40: =R40 -> 67 | T40: =S40 -> 67 | U40: =S40 -> 67 | V40: =U40 -> 67 | W40: =V40 -> 67 | X40: =W40 -> 67 | Y40: =X40 -> 67
B41: Post-Retirement Benefit Obligations | C41: 334 | D41: 368 | E41: 368 | F41: 367 | G41: 364 | H41: 318 | I41: 305 | J41: 305 | K41: 289 | L41: 282 | M41: 243 | N41: 229 | O41: 229 | P41: =O41 -> 229 | Q41: =P41 -> 229 | R41: =Q41 -> 229 | S41: =R41 -> 229 | T41: =S41 -> 229 | U41: =S41 -> 229 | V41: =U41 -> 229 | W41: =V41 -> 229 | X41: =W41 -> 229 | Y41: =X41 -> 229
B42: Asset Retirement Obligations and Accrued Environmental Costs | C42: 452 | D42: 469 | E42: 469 | F42: 471 | G42: 473 | H42: 475 | I42: 468 | J42: 468 | K42: 468 | L42: 478 | M42: 477 | N42: 494 | O42: 494 | P42: =O42 -> 494 | Q42: =P42 -> 494 | R42: =Q42 -> 494 | S42: =R42 -> 494 | T42: =S42 -> 494 | U42: =S42 -> 494 | V42: =U42 -> 494 | W42: =V42 -> 494 | X42: =W42 -> 494 | Y42: =X42 -> 494
B43: Deferred Income Taxes | C43: 346 | D43: 407 | E43: 407 | F43: 460 | G43: 495 | H43: 452 | I43: 362 | J43: 362 | K43: 294 | L43: 297 | M43: 409 | N43: 486 | O43: 486 | P43: =O43 -> 486 | Q43: =P43 -> 486 | R43: =Q43 -> 486 | S43: =R43 -> 486 | T43: =S43 -> 486 | U43: =S43 -> 486 | V43: =U43 -> 486 | W43: =V43 -> 486 | X43: =W43 -> 486 | Y43: =X43 -> 486
B44: Acquired Fuel Supply Contract Liabilities | N44: 662 | O44: 662 | P44: =O44 -> 662 | Q44: =P44 -> 662 | R44: =Q44 -> 662 | S44: =R44 -> 662 | T44: =S44 -> 662 | U44: =S44 -> 662 | V44: =U44 -> 662 | W44: =V44 -> 662 | X44: =W44 -> 662 | Y44: =X44 -> 662
B45: Other Non-Current Liabilites | C45: 44 | D45: 35 | E45: 35 | F45: 118 | G45: 127 | H45: 130 | I45: 135 | J45: 135 | K45: 95 | L45: 38 | M45: 36 | N45: 42 | O45: 42 | P45: =O45 -> 42 | Q45: =P45 -> 42 | R45: =Q45 -> 42 | S45: =R45 -> 42 | T45: =S45 -> 42 | U45: =S45 -> 42 | V45: =U45 -> 42 | W45: =V45 -> 42 | X45: =W45 -> 42 | Y45: =X45 -> 42
B46: Total Non-Current Liabilities | C46: =SUM(C39:C45) -> 4010 | D46: =SUM(D39:D45) -> 4101 | E46: =SUM(E39:E45) -> 4101 | F46: =SUM(F39:F45) -> 4039 | G46: =SUM(G39:G45) -> 4077 | H46: =SUM(H39:H45) -> 3995 | I46: =SUM(I39:I45) -> 4264 | J46: =SUM(J39:J45) -> 4264 | ... Y46: =SUM(Y39:Y45) -> 8192
B48: Total Liabilities | C48: =C36+C46 -> 4534 | D48: =D36+D46 -> 4587 | E48: =E36+E46 -> 4587 | F48: =F36+F46 -> 4499 | G48: =G36+G46 -> 4510 | H48: =H36+H46 -> 4403 | I48: =I36+I46 -> 4719 | J48: =J36+J46 -> 4719 | ... Y48: =Y36+Y46 -> 9606.7307
...

Sheet Cash Flow Statement
B2: Talen Energy Corp. (TLN)
B3: Cash Flow Statement ($mm unless noted otherwise) | C3: 45170 | D3: 45261 | E3: 45261 | F3: 45352 | G3: 45444 | H3: 45536 | I3: 45627 | J3: 45627 | K3: 45717 | L3: 45809 | M3: 45901 | N3: 45992 | O3: 45992 | P3: 46082 | Q3: 46174 | R3: 46266 | S3: 46357 | T3: 46357 | U3: 46447 | V3: 46539 | W3: 46631 | X3: 46722 | Y3: 46722
C4: Q3-2023 | D4: Q4-2023 | E4: FY2023A | F4: Q1-2024 | G4: Q2-2024 | H4: Q3-2024 | I4: Q4-2024 | J4: FY2024A | K4: Q1-2025 | L4: Q2-2025 | M4: Q3-2025 | N4: Q4-2025 | O4: FY2025A | P4: Q1-2026 | Q4: Q2-2026 | R4: Q3-2026 | S4: Q4-2026 | T4: FY2026A | U4: Q1-2027 | V4: Q2-2027 | W4: Q3-2027 | X4: Q4-2027 | Y4: FY2027A
B7: Net Income | C7: ='Income Statement'!C38 -> -76 | D7: ='Income Statement'!D38 -> 188 | E7: ='Income Statement'!E38 -> 608 | F7: ='Income Statement'!F38 -> 319 | G7: ='Income Statement'!G38 -> 458 | H7: ='Income Statement'!H38 -> 168 | I7: ='Income Statement'!I38 -> 68 | J7: ='Income Statement'!J38 -> 1013 | ... Y7: ='Income Statement'!Y38 -> 1728.9537
B8: Stock-based compensation | C8: 0 | D8: 0 | E8: 0 | F8: 0 | G8: 0 | H8: 0 | I8: 0 | J8: 0 | K8: 0 | L8: 0 | M8: 0 | N8: 526 | O8: 526 | P8: 0 | Q8: 0 | R8: 0 | S8: 0 | T8: =SUM(P8:S8) -> 0 | U8: 0 | V8: 0 | W8: 0 | X8: 0 | Y8: =SUM(U8:X8) -> 0
B9: (Gain) loss on sales of assets, net | C9: 0 | D9: 0 | E9: 0 | F9: 0 | G9: 0 | H9: 0 | I9: 0 | J9: 0 | K9: 0 | L9: 0 | M9: 0 | N9: -36 | O9: -36 | P9: 0 | Q9: 0 | R9: 0 | S9: 0 | T9: =SUM(P9:S9) -> 0 | U9: 0 | V9: 0 | W9: 0 | X9: 0 | Y9: =SUM(U9:X9) -> 0
B10: (Gain) loss on Cumulus Data Center Campus sale and ERCOT sale | C10: 0 | D10: 0 | E10: 0 | F10: -324 | G10: -562 | H10: 0 | I10: 0 | J10: -886 | K10: 0 | L10: 0 | M10: -36 | N10: 36 | O10: 0 | P10: 0 | Q10: 0 | R10: 0 | S10: 0 | T10: =SUM(P10:S10) -> 0 | U10: 0 | V10: 0 | W10: 0 | X10: 0 | Y10: =SUM(U10:X10) -> 0
B11: (Gain) loss on sales of assets, net | C11: =SUM(C9:C10) -> 0 | D11: =SUM(D9:D10) -> 0 | E11: =SUM(E9:E10) -> 0 | F11: =SUM(F9:F10) -> -324 | G11: =SUM(G9:G10) -> -562 | H11: =SUM(H9:H10) -> 0 | I11: =SUM(I9:I10) -> 0 | J11: =SUM(J9:J10) -> -886 | ... Y11: =SUM(Y9:Y10) -> 0
B12: Depreciation Expense, mm | C12: 53 | D12: 57 | E12: 305 | F12: 60 | G12: 56 | H12: 56 | I12: 53 | J12: 225 | K12: 55 | L12: 52 | M12: 46 | N12: 58 | O12: =SUM(K12:N12) -> 211 | P12: ='Balance Sheet'!P65 -> -68.087076 | Q12: ='Balance Sheet'!Q65 -> -49.322185 | R12: ='Balance Sheet'!R65 -> -69.945416 | S12: ='Balance Sheet'!S65 -> -68.008202 | T12: =SUM(P12:S12) -> -255.36288 | U12: ='Balance Sheet'!U65 -> -79.997187 | V12: ='Balance Sheet'!V65 -> -55.893293 | W12: ='Balance Sheet'!W65 -> -81.894529 | X12: ='Balance Sheet'!X65 -> -80.659428 | Y12: =SUM(U12:X12) -> -298.44444
B13: Amortization Expense, mm | C13: 0 | D13: 0 | E13: 5 | F13: 2 | G13: 4 | H13: 5 | I13: 5 | J13: 16 | K13: 5 | L13: 3 | M13: 1 | N13: 1 | O13: 10 | P13: =AVERAGE(K13:N13) -> 2.5 | Q13: =AVERAGE(L13:O13) -> 3.75 | R13: =AVERAGE(M13:P13) -> 3.625 | S13: =AVERAGE(N13:Q13) -> 4.3125 | T13: =SUM(P13:S13) -> 14.1875 | U13: =AVERAGE(P13:S13) -> 3.546875 | V13: =AVERAGE(Q13:T13) -> 6.46875 | W13: =AVERAGE(R13:U13) -> 6.4179688 | X13: =AVERAGE(S13:V13) -> 7.1289062 | Y13: =SUM(U13:X13) -> 23.5625
B14: Accretion Expense, mm | C14: 13 | D14: 14 | E14: 55 | F14: 13 | G14: 15 | H14: 14 | I14: 15 | J14: 57 | K14: 14 | L14: 15 | M14: 14 | N14: 15 | O14: 58 | P14: =AVERAGE(K14:N14) -> 14.5 | Q14: =AVERAGE(L14:O14) -> 25.5 | R14: =AVERAGE(M14:P14) -> 25.375 | S14: =AVERAGE(N14:Q14) -> 28.25 | T14: =SUM(P14:S14) -> 93.625 | U14: =AVERAGE(P14:S14) -> 23.40625 | V14: =AVERAGE(Q14:T14) -> 43.1875 | W14: =AVERAGE(R14:U14) -> 42.664062 | X14: =AVERAGE(S14:V14) -> 47.117188 | Y14: =SUM(U14:X14) -> 156.375
B15: Depreciation, amortization and accretion | C15: 62 | D15: 68 | E15: 365 | F15: 74 | G15: 70 | H15: 72 | I15: 69 | J15: 285 | K15: 72 | L15: 69 | M15: 67 | N15: 71 | O15: 279 | P15: =-P12+P13+P14 -> 85.087076 | Q15: =-Q12+Q13+Q14 -> 78.572185 | R15: =-R12+R13+R14 -> 98.945416 | S15: =-S12+S13+S14 -> 100.5707 | T15: =-T12+T13+T14 -> 363.17538 | U15: =-U12+U13+U14 -> 106.95031 | V15: =-V12+V13+V14 -> 105.54954 | W15: =-W12+W13+W14 -> 130.97656 | ... Y15: =-Y12+Y13+Y14 -> 478.38194
B16: Nuclear fuel amortization | C16: 46 | D16: 37 | E16: 141 | F16: 35 | G16: 28 | H16: 30 | I16: 30 | J16: 123 | K16: 26 | L16: 18 | M16: 27 | N16: 26 | O16: 97 | P16: =AVERAGE(K16:N16) -> 24.25 | Q16: =AVERAGE(L16:O16) -> 42 | R16: =AVERAGE(M16:P16) -> 43.5625 | S16: =AVERAGE(N16:Q16) -> 47.3125 | T16: =SUM(P16:S16) -> 157.125 | U16: =AVERAGE(P16:S16) -> 39.28125 | V16: =AVERAGE(Q16:T16) -> 72.5 | W16: =AVERAGE(R16:U16) -> 71.820312 | X16: =AVERAGE(S16:V16) -> 79.054688 | Y16: =SUM(U16:X16) -> 262.65625
B17: Unrealized (gains) losses on derivative instruments | C17: 88 | D17: -89 | E17: 25 | F17: 128 | G17: -92 | H17: -95 | I17: -10 | J17: -69 | K17: 196 | L17: -93 | M17: -35 | N17: 53 | O17: 121 | P17: 0 | Q17: 0 | R17: 0 | S17: 0 | T17: =SUM(P17:S17) -> 0 | U17: 0 | V17: 0 | W17: 0 | X17: 0 | Y17: =SUM(U17:X17) -> 0
B18: Impairments | C18: 0 | D18: 3 | E18: 384 | F18: 0 | G18: 0 | H18: 0 | I18: 1 | J18: 1 | K18: 0 | L18: 0 | M18: 0 | N18: 0 | O18: 0 | P18: 0 | Q18: 0 | R18: 0 | S18: 0 | T18: =SUM(P18:S18) -> 0 | U18: 0 | V18: 0 | W18: 0 | X18: 0 | Y18: =SUM(U18:X18) -> 0
B19: Nuclear decommissioning trust funds (gain) loss, net (excluding interest and fees) | C19: 34 | D19: -79 | E19: -121 | F19: -64 | G19: -16 | H19: -55 | I19: 5 | J19: -130 | K19: 23 | L19: -67 | M19: -68 | N19: -20 | O19: -132 | P19: 0 | Q19: 0 | R19: 0 | S19: 0 | T19: =SUM(P19:S19) -> 0 | U19: 0 | V19: 0 | W19: 0 | X19: 0 | Y19: =SUM(U19:X19) -> 0
B20: Deferred income taxes | C20: -20 | D20: 59 | E20: 250 | F20: 57 | G20: 37 | H20: -55 | I20: -85 | J20: -46 | K20: -70 | L20: 4 | M20: 110 | N20: 76 | O20: 120 | P20: =AVERAGE(K20:N20) -> 30 | Q20: =AVERAGE(L20:O20) -> 77.5 | R20: =AVERAGE(M20:P20) -> 84 | S20: =AVERAGE(N20:Q20) -> 75.875 | T20: =SUM(P20:S20) -> 267.375 | U20: =AVERAGE(P20:S20) -> 66.84375 | V20: =AVERAGE(Q20:T20) -> 126.1875 | W20: =AVERAGE(R20:U20) -> 123.52344 | X20: =AVERAGE(S20:V20) -> 134.07031 | Y20: =SUM(U20:X20) -> 450.625
B21: Reorganization (income) expense, net | C21: 0 | D21: 0 | E21: -933 | F21: 0 | G21: 0 | H21: 0 | I21: 0 | J21: 0 | K21: 0 | L21: 0 | M21: 0 | N21: 0 | O21: 0 | P21: 0 | Q21: 0 | R21: 0 | S21: 0 | T21: =SUM(P21:S21) -> 0 | U21: 0 | V21: 0 | W21: 0 | X21: 0 | Y21: =SUM(U21:X21) -> 0
B22: Other | C22: 6 | D22: -23 | E22: -43 | F22: -42 | G22: -16 | H22: 0 | I22: 32 | J22: -26 | K22: 37 | L22: -3 | M22: 46 | N22: -29 | O22: 51 | P22: 0 | Q22: 0 | R22: 0 | S22: 0 | T22: =SUM(P22:S22) -> 0 | U22: 0 | V22: 0 | W22: 0 | X22: 0 | Y22: =SUM(U22:X22) -> 0
B23: Other Non-Cash Adjustments | C23: =SUM(C17:C22) -> 108 | D23: =SUM(D17:D22) -> -129 | E23: =SUM(E17:E22) -> -438 | F23: =SUM(F17:F22) -> 79 | G23: =SUM(G17:G22) -> -87 | H23: =SUM(H17:H22) -> -205 | I23: =SUM(I17:I22) -> -57 | J23: =SUM(J17:J22) -> -270 | ... Y23: =SUM(Y17:Y22) -> 450.625
B24: CFO before WC | C24: 140 | D24: 164 | E24: 676 | F24: 183 | G24: -93 | H24: 65 | I24: 110 | J24: 265 | K24: 149 | L24: 0 | M24: 318 | N24: 340 | O24: 807 | P24: =P7+P8+P11+P15+P16+P23 -> 471.41882 | Q24: =Q7+Q8+Q11+Q15+Q16+Q23 -> 430.51042 | R24: =R7+R8+R11+R15+R16+R23 -> 574.71162 | S24: =S7+S8+S11+S15+S16+S23 -> 539.59048 | T24: =T7+T8+T11+T15+T16+T23 -> 2016.2313 | U24: =U7+U8+U11+U15+U16+U23 -> 684.23664 | V24: =V7+V8+V11+V15+V16+V23 -> 614.28082 | W24: =W7+W8+W11+W15+W16+W23 -> 804.42017 | ... Y24: =Y7+Y8+Y11+Y15+Y16+Y23 -> 2920.6169
B26: Accounts receivable, net | C26: -18 | D26: 31 | E26: 269 | F26: 11 | G26: -25 | H26: 55 | I26: -27 | J26: 14 | K26: 23 | L26: -126 | M26: 46 | N26: 13 | O26: -44 | P26: =-('Balance Sheet'!P10-'Balance Sheet'!O10) -> -50.207349 | Q26: =-('Balance Sheet'!Q10-'Balance Sheet'!P10) -> 67.855083 | R26: =-('Balance Sheet'!R10-'Balance Sheet'!Q10) -> -74.57496 | S26: =-('Balance Sheet'!S10-'Balance Sheet'!R10) -> 7.0050931 | T26: =SUM(P26:S26) -> -49.922134 | U26: =-('Balance Sheet'!U10-'Balance Sheet'!S10) -> -43.352961 | V26: =-('Balance Sheet'!V10-'Balance Sheet'!T10) -> 43.808307 | W26: =-('Balance Sheet'!W10-'Balance Sheet'!U10) -> -6.8609106 | X26: =-('Balance Sheet'!X10-'Balance Sheet'!V10) -> -89.555973 | Y26: =SUM(U26:X26) -> -95.961537
B27: Inventory, net | C27: 20 | D27: -77 | E27: -58 | F27: 89 | G27: 1 | H27: -17 | I27: -6 | J27: 67 | K27: 83 | L27: -5 | M27: -43 | N27: -6 | O27: 29 | P27: =-('Balance Sheet'!P11-'Balance Sheet'!O11) -> -549.07248 | Q27: =-('Balance Sheet'!Q11-'Balance Sheet'!P11) -> 227.94231 | R27: =-('Balance Sheet'!R11-'Balance Sheet'!Q11) -> -250.51607 | S27: =-('Balance Sheet'!S11-'Balance Sheet'!R11) -> 23.531872 | T27: =SUM(P27:S27) -> -548.11437 | U27: =-('Balance Sheet'!U11-'Balance Sheet'!S11) -> -145.63351 | V27: =-('Balance Sheet'!V11-'Balance Sheet'!T11) -> 147.16314 | W27: =-('Balance Sheet'!W11-'Balance Sheet'!U11) -> -23.047526 | X27: =-('Balance Sheet'!X11-'Balance Sheet'!V11) -> -300.84106 | Y27: =SUM(U27:X27) -> -322.35897
B28: Accounts payable and accrued liabilities | C28: 0 | D28: 35 | E28: -123 | F28: -154 | G28: 40 | H28: -1 | I28: 46 | J28: -69 | K28: -60 | L28: 3 | M28: -34 | N28: 43 | O28: -48 | P28: ='Balance Sheet'!P32-'Balance Sheet'!O32 -> 53.148628 | Q28: ='Balance Sheet'!Q32-'Balance Sheet'!P32 -> -92.09182 | R28: ='Balance Sheet'!R32-'Balance Sheet'!Q32 -> 101.21193 | S28: ='Balance Sheet'!S32-'Balance Sheet'!R32 -> -9.507199 | T28: =SUM(P28:S28) -> 52.761538 | U28: ='Balance Sheet'!U32-'Balance Sheet'!S32 -> 58.837937 | V28: ='Balance Sheet'!V32-'Balance Sheet'!T32 -> -59.455925 | W28: ='Balance Sheet'!W32-'Balance Sheet'!U32 -> 9.3115167 | X28: ='Balance Sheet'!X32-'Balance Sheet'!V32 -> 121.54392 | Y28: =SUM(U28:X28) -> 130.23744
B29: Other assets | C29: 25 | D29: 105 | E29: 250 | F29: -1 | G29: 35 | H29: -6 | I29: -89 | J29: -61 | K29: 22 | L29: -7 | M29: 187 | N29: -20 | O29: 182 | P29: =-('Balance Sheet'!P13-'Balance Sheet'!O13) -> -129.13646 | Q29: =-('Balance Sheet'!Q13-'Balance Sheet'!P13) -> 54.055477 | R29: =-('Balance Sheet'!R13-'Balance Sheet'!Q13) -> -59.408741 | S29: =-('Balance Sheet'!S13-'Balance Sheet'!R13) -> 5.5804758 | T29: =SUM(P29:S29) -> -128.90925 | U29: =-('Balance Sheet'!U13-'Balance Sheet'!S13) -> -14.760389 | V29: =-('Balance Sheet'!V13-'Balance Sheet'!T13) -> 48.716325 | W29: =-('Balance Sheet'!W13-'Balance Sheet'!U13) -> -4.9965778 | X29: =-('Balance Sheet'!X13-'Balance Sheet'!V13) -> -65.2207 | Y29: =SUM(U29:X29) -> -36.261342
B30: Collateral received (posted), net | C30: 0 | D30: 0 | E30: 0 | F30: 0 | G30: 0 | H30: 0 | I30: 0 | J30: 0 | K30: -67 | L30: 9 | M30: 51 | N30: -26 | O30: -33 | P30: 0 | Q30: 0 | R30: 0 | S30: 0 | T30: =SUM(P30:S30) -> 0 | U30: 0 | V30: 0 | W30: 0 | X30: 0 | Y30: =SUM(U30:X30) -> 0
B31: Accrued interest | C31: 40 | D31: -37 | E31: -96 | F31: 29 | G31: -30 | H31: 23 | I31: -37 | J31: -15 | K31: 36 | L31: -24 | M31: 24 | N31: 6 | O31: 42 | P31: 0 | Q31: 0 | R31: 0 | S31: 0 | T31: =SUM(P31:S31) -> 0 | U31: 0 | V31: 0 | W31: 0 | X31: 0 | Y31: =SUM(U31:X31) -> 0
B32: Other liabilities | C32: -26 | D32: 1 | E32: -54 | F32: 16 | G32: 49 | H32: -23 | I32: 13 | J32: 55 | K32: -67 | L32: -34 | M32: -60 | N32: -70 | O32: -231 | P32: ='Balance Sheet'!P35-'Balance Sheet'!O35 -> 128.96991 | Q32: ='Balance Sheet'!Q35-'Balance Sheet'!P35 -> -57.041191 | R32: ='Balance Sheet'!R35-'Balance Sheet'!Q35 -> 62.690138 | S32: ='Balance Sheet'!S35-'Balance Sheet'!R35 -> -5.8887092 | T32: =SUM(P32:S32) -> 128.73015 | U32: ='Balance Sheet'!U35-'Balance Sheet'!S35 -> 36.44391 | V32: ='Balance Sheet'!V35-'Balance Sheet'!T35 -> -36.826689 | W32: ='Balance Sheet'!W35-'Balance Sheet'!U35 -> 5.7675047 | X32: ='Balance Sheet'!X35-'Balance Sheet'!V35 -> 75.283665 | Y32: =SUM(U32:X32) -> 80.668391
B33: Other Working Capital Changes | C33: =SUM(C29:C32) -> 39 | D33: =SUM(D29:D32) -> 69 | E33: =SUM(E29:E32) -> 100 | F33: =SUM(F29:F32) -> 44 | G33: =SUM(G29:G32) -> 54 | H33: =SUM(H29:H32) -> -6 | I33: =SUM(I29:I32) -> -113 | J33: =SUM(J29:J32) -> -21 | ... Y33: =SUM(Y29:Y32) -> 44.407049
B34: Net CFO | C34: 181 | D34: 222 | E34: 864 | F34: 173 | G34: -23 | H34: 96 | I34: 10 | J34: 256 | K34: 119 | L34: -184 | M34: 489 | N34: 280 | O34: 704 | P34: =P24+P26+P27+P28+P33 -> -74.878929 | Q34: =Q24+Q26+Q27+Q28+Q33 -> 631.23028 | R34: =R24+R26+R27+R28+R33 -> 354.11391 | S34: =S24+S26+S27+S28+S33 -> 560.31201 | T34: =T24+T26+T27+T28+T33 -> 1470.7773 | U34: =U24+U26+U27+U28+U33 -> 575.77162 | V34: =V24+V26+V27+V28+V33 -> 757.68597 | W34: =W24+W26+W27+W28+W33 -> 784.59417 | ... Y34: =Y24+Y26+Y27+Y28+Y33 -> 2676.9409
B36: Capex of PPE and Intangibles, mm | C36: 40 | D36: 56 | E36: 254 | F36: 25 | G36: 20 | H36: 13 | I36: 27 | J36: 85 | K36: 18 | L36: 33 | M36: 21 | N36: 26 | O36: 98 | P36: ='Balance Sheet'!P64 -> 31.968063 | Q36: ='Balance Sheet'!Q64 -> 23.157621 | R36: ='Balance Sheet'!R64 -> 32.840586 | S36: ='Balance Sheet'!S64 -> 31.93103 | T36: =SUM(P36:S36) -> 119.8973 | U36: ='Balance Sheet'!U64 -> 37.560067 | V36: ='Balance Sheet'!V64 -> 26.24287 | W36: ='Balance Sheet'!W64 -> 38.450901 | X36: ='Balance Sheet'!X64 -> 37.871 | Y36: =SUM(U36:X36) -> 140.12484
B37: Percentage of PPE & Intangibles capex allocated to intangible assets, % | C37: 0.1 | D37: 0.1 | E37: 0.1 | F37: 0.1 | G37: 0.1 | H37: 0.1 | I37: 0.1 | J37: 0.1 | K37: 0.1 | L37: 0.1 | M37: 0.1 | N37: 0.1 | O37: 0.1 | P37: =AVERAGE(K37:N37) -> 0.1 | Q37: =AVERAGE(L37:O37) -> 0.1 | R37: =AVERAGE(M37:P37) -> 0.1 | S37: =AVERAGE(N37:Q37) -> 0.1 | T37: =AVERAGE(P37:S37) -> 0.1 | U37: =AVERAGE(P37:S37) -> 0.1 | V37: =AVERAGE(Q37:T37) -> 0.1 | W37: =AVERAGE(R37:U37) -> 0.1 | X37: =AVERAGE(S37:V37) -> 0.1 | Y37: =AVERAGE(U37:X37) -> 0.1
B38: Property, plant and equipment expenditures | C38: -40 | D38: -56 | E38: -254 | F38: -25 | G38: -20 | H38: -13 | I38: -27 | J38: -85 | K38: -18 | L38: -33 | M38: -21 | N38: -26 | O38: -98 | P38: =-P36 -> -31.968063 | Q38: =-Q36 -> -23.157621 | R38: =-R36 -> -32.840586 | S38: =-S36 -> -31.93103 | T38: =SUM(P38:S38) -> -119.8973 | U38: =-U36 -> -37.560067 | V38: =-V36 -> -26.24287 | W38: =-W36 -> -38.450901 | X38: =-X36 -> -37.871 | Y38: =SUM(U38:X38) -> -140.12484
B39: Nuclear fuel expenditures | C39: -29 | D39: -2 | E39: -94 | F39: -41 | G39: -3 | H39: -45 | I39: -15 | J39: -104 | K39: -46 | L39: -4 | M39: -44 | N39: -14 | O39: -108 | P39: =AVERAGE(K39:N39) -> -27 | Q39: =AVERAGE(L39:O39) -> -42.5 | R39: =AVERAGE(M39:P39) -> -48.25 | S39: =AVERAGE(N39:Q39) -> -47.875 | T39: =SUM(P39:S39) -> -165.625 | U39: =AVERAGE(P39:S39) -> -41.40625 | V39: =AVERAGE(Q39:T39) -> -76.0625 | W39: =AVERAGE(R39:U39) -> -75.789062 | X39: =AVERAGE(S39:V39) -> -82.742188 | Y39: =SUM(U39:X39) -> -276
B40: Nuclear decommissioning trust funds investment sale proceeds | C40: 495 | D40: 497 | E40: 2214 | F40: 553 | G40: 542 | H40: 551 | I40: 617 | J40: 2263 | K40: 581 | L40: 605 | M40: 641 | N40: 100 | O40: 1927 | P40: =AVERAGE(K40:N40) -> 481.75 | Q40: =AVERAGE(L40:O40) -> 818.25 | R40: =AVERAGE(M40:P40) -> 787.4375 | S40: =AVERAGE(N40:Q40) -> 831.75 | T40: =SUM(P40:S40) -> 2919.1875 | U40: =AVERAGE(P40:S40) -> 729.79688 | V40: =AVERAGE(Q40:T40) -> 1339.1562 | W40: =AVERAGE(R40:U40) -> 1317.043 | X40: =AVERAGE(S40:V40) -> 1454.9727 | Y40: =SUM(U40:X40) -> 4840.9688
B41: Nuclear decommissioning trust funds investment purchases | C41: -501 | D41: -510 | E41: -2249 | F41: -564 | G41: -546 | H41: -560 | I41: -625 | J41: -2295 | K41: -592 | L41: -609 | M41: -651 | N41: -110 | O41: -1962 | P41: =AVERAGE(K41:N41) -> -490.5 | Q41: =AVERAGE(L41:O41) -> -833 | R41: =AVERAGE(M41:P41) -> -803.375 | S41: =AVERAGE(N41:Q41) -> -848.875 | T41: =SUM(P41:S41) -> -2975.75 | U41: =AVERAGE(P41:S41) -> -743.9375 | V41: =AVERAGE(Q41:T41) -> -1365.25 | W41: =AVERAGE(R41:U41) -> -1342.9844 | X41: =AVERAGE(S41:V41) -> -1483.4531 | Y41: =SUM(U41:X41) -> -4935.625
B42: Nuclear Decommissioning, Net | C42: =SUM(C40:C41) -> -6 | D42: =SUM(D40:D41) -> -13 | E42: =SUM(E40:E41) -> -35 | F42: =SUM(F40:F41) -> -11 | G42: =SUM(G40:G41) -> -4 | H42: =SUM(H40:H41) -> -9 | I42: =SUM(I40:I41) -> -8 | J42: =SUM(J40:J41) -> -32 | ... Y42: =SUM(Y40:Y41) -> -94.65625
B43: Proceeds from the sale of assets | C43: 0 | D43: 0 | E43: 0 | F43: 0 | G43: 0 | H43: 0 | I43: 0 | J43: 0 | K43: 0 | L43: 0 | M43: 40 | N43: 0 | O43: 40 | P43: 0 | Q43: 0 | R43: 0 | S43: 0 | T43: =SUM(P43:S43) -> 0 | U43: 0 | V43: 0 | W43: 0 | X43: 0 | Y43: =SUM(U43:X43) -> 0
B44: Proceeds from Cumulus Data Center Campus Sale and ERCOT sale | C44: 0 | D44: 0 | E44: 0 | F44: 339 | G44: 750 | H44: 309 | I44: 0 | J44: 1398 | K44: 0 | L44: 0 | M44: 0 | N44: 0 | O44: 0 | P44: 0 | Q44: 0 | R44: 0 | S44: 0 | T44: =SUM(P44:S44) -> 0 | U44: 0 | V44: 0 | W44: 0 | X44: 0 | Y44: =SUM(U44:X44) -> 0
B45: Equity investments in affiliates | C45: -3 | D45: -2 | E45: -13 | F45: 0 | G45: -5 | H45: -1 | I45: -4 | J45: -10 | K45: 0 | L45: 0 | M45: 0 | N45: -3793 | O45: -3793 | P45: 0 | Q45: 0 | R45: 0 | S45: 0 | T45: =SUM(P45:S45) -> 0 | U45: 0 | V45: 0 | W45: 0 | X45: 0 | Y45: =SUM(U45:X45) -> 0
...

Sheet DCF
D2: 2025A | E2: 2026E | F2: 2027E
B3: DCF
I4: TLN as of 04/24/2026 | M4: 347.74
B5: Year | D5: 0 | E5: 1 | F5: 2
I6: Assumptions
